BEGIN:VCALENDAR
VERSION:2.0
PRODID:-//eventon.com NONSGML v1.0//EN
BEGIN:VEVENT
UID:69e5e159a8ddb
DTSTAMP:20260420T041833
DTSTART:20260403T230000Z
DTEND:20260404T003000Z
TZID:America/New_York
LOCATION:Rockpointe Community Church 38100 Utica Road
SUMMARY:EASTER WEEKEND SERVICES
DESCRIPTION: 
URL:https://www.rockpointe.org/?post_type=ajde_events&p=2977
END:VEVENT
END:VCALENDAR