BEGIN:VCALENDAR
VERSION:2.0
PRODID:-//eventon.com NONSGML v1.0//EN
BEGIN:VEVENT
UID:69e784e5de79e
DTSTAMP:20260421T100837
DTSTART:20260516T120000Z
DTEND:20260516T133000Z
TZID:America/New_York
LOCATION:Rockpointe Community Church 38100 Utica Road
SUMMARY:Women of Strength Discussion Group
DESCRIPTION: Our Women of Strength Discussion Group meets typically on the first and third Saturday mornings of each month. This group is for adult women who want to spur one another on to live lives of integrity and faith. The group fosters open conversation about life&#8217;s challenges and use foundations of Biblical Truth[..]
URL:https://www.rockpointe.org/resources/events/womens-discussion-group/var/ri-15.l-L1
END:VEVENT
END:VCALENDAR