BEGIN:VCALENDAR
VERSION:2.0
PRODID:-//eventon.com NONSGML v1.0//EN
BEGIN:VEVENT
UID:69e5e1c767a36
DTSTAMP:20260420T042023
DTSTART:20260220T000000Z
DTEND:20260220T013000Z
TZID:America/New_York
LOCATION:Rockpointe Community Church 38100 Utica Road
SUMMARY:Men's Bible Study
DESCRIPTION: &nbsp; Dig deep into the Bible along with men from all walks of life. Sharpen each other through study\,  discussion and prayer. Gain greater personal understanding of the Bible and develop your spiritual life&#8230; Interested? Register HERE. We&#8217;ll save you a seat.
URL:https://www.rockpointe.org/resources/events/mens-bible-study/var/ri-20.l-L1
END:VEVENT
END:VCALENDAR